BEGIN:VCALENDAR
VERSION:2.0
PRODID:SchoolNow
CALSCALE:GREGORIAN
BEGIN:VEVENT
UID:3b00ce40-9c8b-11f0-bdf5-0edbf010c079
DTSTAMP:20251216T154528Z
SUMMARY:SOAR Assembly:  6th
URL;VALUE=URI:https://www.gusd.us/foothill/calendar/8673398/soar-assembly-6
 th
DTSTART;VALUE=DATE:20251003
DTEND;VALUE=DATE:20251004
END:VEVENT
END:VCALENDAR
