BEGIN:VCALENDAR
VERSION:2.0
PRODID:SchoolNow
CALSCALE:GREGORIAN
BEGIN:VEVENT
UID:3b00ed80-9c8b-11f0-af06-0edbf010c079
DTSTAMP:20251216T154528Z
SUMMARY:SOAR Assembly: 5th
URL;VALUE=URI:https://www.gusd.us/foothill/calendar/8673399/soar-assembly-5
 th
DTSTART;VALUE=DATE:20251107
DTEND;VALUE=DATE:20251108
END:VEVENT
END:VCALENDAR
