BEGIN:VCALENDAR
VERSION:2.0
PRODID:SchoolNow
CALSCALE:GREGORIAN
BEGIN:VEVENT
UID:3b00ef06-9c8b-11f0-a90e-0edbf010c079
DTSTAMP:20251216T154528Z
SUMMARY:SOAR Assembly:  3rd
URL;VALUE=URI:https://www.gusd.us/foothill/calendar/8673400/soar-assembly-3
 rd
DTSTART;VALUE=DATE:20251205
DTEND;VALUE=DATE:20251206
END:VEVENT
END:VCALENDAR
