BEGIN:VCALENDAR
VERSION:2.0
PRODID:SchoolNow
CALSCALE:GREGORIAN
BEGIN:VEVENT
UID:3b00f03c-9c8b-11f0-a750-0edbf010c079
DTSTAMP:20251216T154528Z
SUMMARY:SOAR Assembly:  GFS
URL;VALUE=URI:https://www.gusd.us/foothill/calendar/8673401/soar-assembly-g
 fs
DTSTART;VALUE=DATE:20260109
DTEND;VALUE=DATE:20260110
END:VEVENT
END:VCALENDAR
