BEGIN:VCALENDAR
VERSION:2.0
PRODID:SchoolNow
CALSCALE:GREGORIAN
BEGIN:VEVENT
UID:3b00f140-9c8b-11f0-9acf-0edbf010c079
DTSTAMP:20251216T154528Z
SUMMARY:SOAR Assembly: 4th
URL;VALUE=URI:https://www.gusd.us/foothill/calendar/8673402/soar-assembly-4
 th
DTSTART;VALUE=DATE:20260206
DTEND;VALUE=DATE:20260207
END:VEVENT
END:VCALENDAR
