BEGIN:VCALENDAR
VERSION:2.0
PRODID:SchoolNow
CALSCALE:GREGORIAN
BEGIN:VEVENT
UID:3b00f230-9c8b-11f0-a1fc-0edbf010c079
DTSTAMP:20251216T154528Z
SUMMARY:SOAR Assembly: 2nd
URL;VALUE=URI:https://www.gusd.us/foothill/calendar/8673403/soar-assembly-2
 nd
DTSTART;VALUE=DATE:20260306
DTEND;VALUE=DATE:20260307
END:VEVENT
END:VCALENDAR
