BEGIN:VCALENDAR
VERSION:2.0
PRODID:SchoolNow
CALSCALE:GREGORIAN
BEGIN:VEVENT
UID:3b00f32a-9c8b-11f0-8457-0edbf010c079
DTSTAMP:20251216T154528Z
SUMMARY:SOAR Assembly:  1st
URL;VALUE=URI:https://www.gusd.us/foothill/calendar/8673404/soar-assembly-1
 st
DTSTART;VALUE=DATE:20260410
DTEND;VALUE=DATE:20260411
END:VEVENT
END:VCALENDAR
