BEGIN:VCALENDAR
VERSION:2.0
PRODID:SchoolNow
CALSCALE:GREGORIAN
BEGIN:VEVENT
UID:3b00f41a-9c8b-11f0-ae90-0edbf010c079
DTSTAMP:20251216T154528Z
SUMMARY:SOAR Assembly:  TK/K
URL;VALUE=URI:https://www.gusd.us/foothill/calendar/8673405/soar-assembly-t
 k-k
DTSTART;VALUE=DATE:20260501
DTEND;VALUE=DATE:20260502
END:VEVENT
END:VCALENDAR
