BEGIN:VCALENDAR
VERSION:2.0
PRODID:SchoolNow
CALSCALE:GREGORIAN
BEGIN:VEVENT
UID:37390358-9cbe-11f0-9a3e-023e187c7621
DTSTAMP:20251216T154528Z
SUMMARY:Chaucer's Book Fair
URL;VALUE=URI:https://www.gusd.us/foothill/calendar/8674049/chaucers-book-f
 air
DTSTART:20251114T010000Z
DTEND:20251114T030000Z
END:VEVENT
END:VCALENDAR
