BEGIN:VCALENDAR
VERSION:2.0
PRODID:SchoolNow
CALSCALE:GREGORIAN
BEGIN:VEVENT
UID:37392428-9cbe-11f0-9f5c-023e187c7621
DTSTAMP:20251216T154528Z
SUMMARY:Teacher/Staff appreciation luncheon
URL;VALUE=URI:https://www.gusd.us/foothill/calendar/8674051/teacher-staff-a
 ppreciation-luncheon
DTSTART;VALUE=DATE:20251217
DTEND;VALUE=DATE:20251218
END:VEVENT
END:VCALENDAR
