BEGIN:VCALENDAR
VERSION:2.0
PRODID:SchoolNow
CALSCALE:GREGORIAN
BEGIN:VEVENT
UID:3739254a-9cbe-11f0-9b22-023e187c7621
DTSTAMP:20251216T154528Z
SUMMARY:FH General PTA meeting
URL;VALUE=URI:https://www.gusd.us/foothill/calendar/8674052/fh-general-pta-
 meeting
DTSTART:20260122T023000Z
DTEND:20260122T033000Z
END:VEVENT
END:VCALENDAR
