BEGIN:VCALENDAR
VERSION:2.0
PRODID:SchoolNow
CALSCALE:GREGORIAN
BEGIN:VEVENT
UID:37392662-9cbe-11f0-8fd4-023e187c7621
DTSTAMP:20251216T154528Z
SUMMARY:General PTA meeting
URL;VALUE=URI:https://www.gusd.us/foothill/calendar/8674053/general-pta-mee
 ting
DTSTART:20260514T010000Z
DTEND:20260514T023000Z
END:VEVENT
END:VCALENDAR
