BEGIN:VCALENDAR
VERSION:2.0
PRODID:SchoolNow
CALSCALE:GREGORIAN
BEGIN:VEVENT
UID:24eb6922-9e56-11f0-b432-0e429ad58925
DTSTAMP:20251216T154528Z
SUMMARY:Thanksgiving Week - Schools Closed
URL;VALUE=URI:https://www.gusd.us/foothill/calendar/8681903/thanksgiving-we
 ek-schools-closed
DTSTART;VALUE=DATE:20251124
DTEND;VALUE=DATE:20251129
END:VEVENT
END:VCALENDAR
