BEGIN:VCALENDAR
VERSION:2.0
PRODID:SchoolNow
CALSCALE:GREGORIAN
BEGIN:VEVENT
UID:029af41c-a0ba-11f0-b5c3-0227f8f04cbb
DTSTAMP:20251216T154528Z
SUMMARY:School Spirit Day
URL;VALUE=URI:https://www.gusd.us/foothill/calendar/8692528/school-spirit-d
 ay
DTSTART;VALUE=DATE:20270604
DTEND;VALUE=DATE:20270605
END:VEVENT
END:VCALENDAR
