BEGIN:VCALENDAR
VERSION:2.0
PRODID:SchoolNow
CALSCALE:GREGORIAN
BEGIN:VEVENT
UID:aaadc2fc-a7b2-11f0-8c7a-0eccecbeea23
DTSTAMP:20251216T154528Z
SUMMARY:PTA Assembly:  House of Jacks
URL;VALUE=URI:https://www.gusd.us/foothill/calendar/8717289/pta-assembly-ho
 use-of-jacks
DTSTART:20260309T194500Z
DTEND:20260309T220000Z
END:VEVENT
END:VCALENDAR
