BEGIN:VCALENDAR
VERSION:2.0
PRODID:SchoolNow
CALSCALE:GREGORIAN
BEGIN:VEVENT
UID:72c26f96-aec4-11f0-bad0-0a58a9feac02
DTSTAMP:20251216T154528Z
SUMMARY:Foothill/GFS Fall Parade
URL;VALUE=URI:https://www.gusd.us/foothill/calendar/8740389/foothill-gfs-fa
 ll-parade
DTSTART:20251031T154500Z
DTEND:20251031T161500Z
END:VEVENT
END:VCALENDAR
