BEGIN:VCALENDAR
VERSION:2.0
PRODID:SchoolNow
CALSCALE:GREGORIAN
BEGIN:VEVENT
UID:365e0008-b359-11f0-b3e1-0a58a9feac02
DTSTAMP:20251216T154528Z
SUMMARY:Fall Back: Change Clocks 1 Hour Back
URL;VALUE=URI:https://www.gusd.us/foothill/calendar/8754641/fall-back-chang
 e-clocks-1-hour-back
DTSTART:20251102T100000Z
DTEND:20251102T110000Z
END:VEVENT
END:VCALENDAR
