BEGIN:VCALENDAR
VERSION:2.0
PRODID:SchoolNow
CALSCALE:GREGORIAN
BEGIN:VEVENT
UID:f6483368-b820-11f0-8f48-0a58a9feac02
DTSTAMP:20251216T154528Z
SUMMARY:School Spirit Day
URL;VALUE=URI:https://www.gusd.us/foothill/calendar/8769339/school-spirit-d
 ay
DTSTART;VALUE=DATE:20270702
DTEND;VALUE=DATE:20270703
END:VEVENT
END:VCALENDAR
