BEGIN:VCALENDAR
VERSION:2.0
PRODID:SchoolNow
CALSCALE:GREGORIAN
BEGIN:VEVENT
UID:647ce4b6-c3e1-11f0-810f-0a58a9feac02
DTSTAMP:20251216T154528Z
SUMMARY:MLK Jr. Day - No School
URL;VALUE=URI:https://www.gusd.us/foothill/calendar/8799930/mlk-jr-day-no-s
 chool
DTSTART;VALUE=DATE:20260119
DTEND;VALUE=DATE:20260120
END:VEVENT
END:VCALENDAR
