BEGIN:VCALENDAR
VERSION:2.0
PRODID:SchoolNow
CALSCALE:GREGORIAN
BEGIN:VEVENT
UID:647d050e-c3e1-11f0-b667-0a58a9feac02
DTSTAMP:20251216T154528Z
SUMMARY:Presidents' Day Holiday
URL;VALUE=URI:https://www.gusd.us/foothill/calendar/8799931/presidents-day-
 holiday
DTSTART;VALUE=DATE:20260213
DTEND;VALUE=DATE:20260217
END:VEVENT
END:VCALENDAR
