BEGIN:VCALENDAR
VERSION:2.0
PRODID:SchoolNow
CALSCALE:GREGORIAN
BEGIN:VEVENT
UID:3b5b60ac-c711-11f0-9518-0a58a9feac02
DTSTAMP:20251216T154528Z
SUMMARY:FH/GFS PTA Reflections Celebration
URL;VALUE=URI:https://www.gusd.us/foothill/calendar/8807517/fh-gfs-pta-refl
 ections-celebration
DTSTART:20251203T013000Z
DTEND:20251203T033000Z
END:VEVENT
END:VCALENDAR
