BEGIN:VCALENDAR
VERSION:2.0
PRODID:SchoolNow
CALSCALE:GREGORIAN
BEGIN:VEVENT
UID:e67caa9c-ced5-11f0-9e1e-0a58a9feac02
DTSTAMP:20251216T154528Z
SUMMARY:FH PTA Coffee on the Curb: 3rd
URL;VALUE=URI:https://www.gusd.us/foothill/calendar/8814615/fh-pta-coffee-o
 n-the-curb-3rd
DTSTART;VALUE=DATE:20251205
DTEND;VALUE=DATE:20251206
END:VEVENT
END:VCALENDAR
