BEGIN:VCALENDAR
VERSION:2.0
PRODID:SchoolNow
CALSCALE:GREGORIAN
BEGIN:VEVENT
UID:d7ff92da-cf08-11f0-8123-0e8972351815
DTSTAMP:20251216T154528Z
SUMMARY:Coffee on the Curb-4th
URL;VALUE=URI:https://www.gusd.us/foothill/calendar/8815004/coffee-on-the-c
 urb-4th
DTSTART;VALUE=DATE:20260109
DTEND;VALUE=DATE:20260110
END:VEVENT
END:VCALENDAR
