BEGIN:VCALENDAR
VERSION:2.0
PRODID:SchoolNow
CALSCALE:GREGORIAN
BEGIN:VEVENT
UID:d7ff95e6-cf08-11f0-b2d9-0e8972351815
DTSTAMP:20251216T154528Z
SUMMARY:Coffee on the Curb-all staff
URL;VALUE=URI:https://www.gusd.us/foothill/calendar/8815005/coffee-on-the-c
 urb-all-staff
DTSTART;VALUE=DATE:20260410
DTEND;VALUE=DATE:20260411
END:VEVENT
END:VCALENDAR
