BEGIN:VCALENDAR
VERSION:2.0
PRODID:SchoolNow
CALSCALE:GREGORIAN
BEGIN:VEVENT
UID:d7ff9802-cf08-11f0-8644-0e8972351815
DTSTAMP:20251216T154528Z
SUMMARY:Coffee on the Curb-5th
URL;VALUE=URI:https://www.gusd.us/foothill/calendar/8815006/coffee-on-the-c
 urb-5th
DTSTART;VALUE=DATE:20260206
DTEND;VALUE=DATE:20260207
END:VEVENT
END:VCALENDAR
