BEGIN:VCALENDAR
VERSION:2.0
PRODID:SchoolNow
CALSCALE:GREGORIAN
BEGIN:VEVENT
UID:d7ff99a6-cf08-11f0-9708-0e8972351815
DTSTAMP:20251216T154528Z
SUMMARY:Coffee on the Curb-6th
URL;VALUE=URI:https://www.gusd.us/foothill/calendar/8815007/coffee-on-the-c
 urb-6th
DTSTART;VALUE=DATE:20260306
DTEND;VALUE=DATE:20260307
END:VEVENT
END:VCALENDAR
