BEGIN:VCALENDAR
VERSION:2.0
PRODID:SchoolNow
CALSCALE:GREGORIAN
BEGIN:VEVENT
UID:aa26fe6a-d238-11f0-b543-0a58a9feac02
DTSTAMP:20251216T154528Z
SUMMARY:School Spirit Day
URL;VALUE=URI:https://www.gusd.us/foothill/calendar/8818902/school-spirit-d
 ay
DTSTART;VALUE=DATE:20270806
DTEND;VALUE=DATE:20270807
END:VEVENT
END:VCALENDAR
