BEGIN:VCALENDAR
VERSION:2.0
PRODID:SchoolNow
CALSCALE:GREGORIAN
BEGIN:VEVENT
UID:6f7a9b34-d6cd-11f0-b931-0a58a9feac02
DTSTAMP:20251216T154528Z
SUMMARY:School Photos
URL;VALUE=URI:https://www.gusd.us/foothill/calendar/8822277/school-photos
DTSTART:20260908T153000Z
DTEND:20260908T190000Z
END:VEVENT
END:VCALENDAR
