BEGIN:VCALENDAR
VERSION:2.0
PRODID:SchoolNow
CALSCALE:GREGORIAN
BEGIN:VEVENT
UID:6f7aa048-d6cd-11f0-a637-0a58a9feac02
DTSTAMP:20251216T154528Z
SUMMARY:School Photo Retakes
URL;VALUE=URI:https://www.gusd.us/foothill/calendar/8822278/school-photo-re
 takes
DTSTART:20261103T163000Z
DTEND:20261103T183000Z
END:VEVENT
END:VCALENDAR
