BEGIN:VCALENDAR
VERSION:2.0
PRODID:SchoolNow
CALSCALE:GREGORIAN
BEGIN:VEVENT
UID:6cd4455a-d700-11f0-8ee7-0ef00e74cf87
DTSTAMP:20251216T154528Z
SUMMARY:Foothill 6th Grade Camp Meeting
URL;VALUE=URI:https://www.gusd.us/foothill/calendar/8822671/foothill-6th-gr
 ade-camp-meeting
DTSTART:20260109T013000Z
DTEND:20260109T023000Z
END:VEVENT
END:VCALENDAR
