BEGIN:VCALENDAR
VERSION:2.0
PRODID:SchoolNow
CALSCALE:GREGORIAN
BEGIN:VEVENT
UID:5b843a52-d832-11f0-bac1-02e6b4a34007
DTSTAMP:20251216T154528Z
SUMMARY:FH TK/K Parent Info Night
URL;VALUE=URI:https://www.gusd.us/foothill/calendar/8823378/fh-tk-k-parent-
 info-night
DTSTART:20260205T013000Z
DTEND:20260205T023000Z
END:VEVENT
END:VCALENDAR
