BEGIN:VCALENDAR
VERSION:2.0
PRODID:SchoolNow
CALSCALE:GREGORIAN
BEGIN:VEVENT
UID:3efaad06-ea78-11ef-abe7-0249c4cd0661
DTSTAMP:20251216T154527Z
SUMMARY:Family Fiesta Night
URL;VALUE=URI:https://www.gusd.us/islavista/calendar/7466238/family-fiesta-
 night
DTSTART:20260928T003000Z
DTEND:20260928T020000Z
END:VEVENT
END:VCALENDAR
