BEGIN:VCALENDAR
VERSION:2.0
PRODID:SchoolNow
CALSCALE:GREGORIAN
BEGIN:VEVENT
UID:8f7a25a0-3662-11f0-8232-0a58a9feac02
DTSTAMP:20260422T162016Z
SUMMARY:Schools Closed for Winter Recess
URL;VALUE=URI:https://www.gusd.us/islavista/calendar/8175681/schools-closed
 -for-winter-recess
DTSTART;VALUE=DATE:20251222
DTEND;VALUE=DATE:20260103
END:VEVENT
END:VCALENDAR
