BEGIN:VCALENDAR
VERSION:2.0
PRODID:SchoolNow
CALSCALE:GREGORIAN
BEGIN:VEVENT
UID:8f7a269a-3662-11f0-b4aa-0a58a9feac02
DTSTAMP:20260422T162015Z
SUMMARY:Schools Closed for MLK Jr. Day
URL;VALUE=URI:https://www.gusd.us/islavista/calendar/8175682/schools-closed
 -for-mlk-jr-day
DTSTART;VALUE=DATE:20260119
DTEND;VALUE=DATE:20260120
END:VEVENT
END:VCALENDAR
