BEGIN:VCALENDAR
VERSION:2.0
PRODID:SchoolNow
CALSCALE:GREGORIAN
BEGIN:VEVENT
UID:8f7a278a-3662-11f0-9ee6-0a58a9feac02
DTSTAMP:20260422T162015Z
SUMMARY:Student Minimum Day - 12:00 Dismissal
URL;VALUE=URI:https://www.gusd.us/islavista/calendar/8175683/student-minimu
 m-day-12-00-dismissal
DTSTART;VALUE=DATE:20260129
DTEND;VALUE=DATE:20260130
END:VEVENT
END:VCALENDAR
