BEGIN:VCALENDAR
VERSION:2.0
PRODID:SchoolNow
CALSCALE:GREGORIAN
BEGIN:VEVENT
UID:8f7a2884-3662-11f0-aabd-0a58a9feac02
DTSTAMP:20260422T162016Z
SUMMARY:Schools Closed for President's Day Holiday
URL;VALUE=URI:https://www.gusd.us/islavista/calendar/8175684/schools-closed
 -for-presidents-day-holiday
DTSTART;VALUE=DATE:20260213
DTEND;VALUE=DATE:20260217
END:VEVENT
END:VCALENDAR
