BEGIN:VCALENDAR
VERSION:2.0
PRODID:SchoolNow
CALSCALE:GREGORIAN
BEGIN:VEVENT
UID:8f7a2a82-3662-11f0-8a83-0a58a9feac02
DTSTAMP:20260423T042513Z
SUMMARY:Spring Recess - Schools Closed
URL;VALUE=URI:https://www.gusd.us/islavista/calendar/8175686/spring-recess-
 schools-closed
DTSTART;VALUE=DATE:20260327
DTEND;VALUE=DATE:20260404
END:VEVENT
END:VCALENDAR
