BEGIN:VCALENDAR
VERSION:2.0
PRODID:SchoolNow
CALSCALE:GREGORIAN
BEGIN:VEVENT
UID:8f7a2b72-3662-11f0-befe-0a58a9feac02
DTSTAMP:20260423T042513Z
SUMMARY:Schools Closed for Memorial Day
URL;VALUE=URI:https://www.gusd.us/islavista/calendar/8175687/schools-closed
 -for-memorial-day
DTSTART;VALUE=DATE:20260525
DTEND;VALUE=DATE:20260526
END:VEVENT
END:VCALENDAR
