BEGIN:VCALENDAR
VERSION:2.0
PRODID:SchoolNow
CALSCALE:GREGORIAN
BEGIN:VEVENT
UID:8f7a2c76-3662-11f0-8164-0a58a9feac02
DTSTAMP:20260423T042513Z
SUMMARY:Last Day of School - 12:00 Dismissal!
URL;VALUE=URI:https://www.gusd.us/islavista/calendar/8175688/last-day-of-sc
 hool-12-00-dismissal
DTSTART;VALUE=DATE:20260604
DTEND;VALUE=DATE:20260605
END:VEVENT
END:VCALENDAR
