BEGIN:VCALENDAR
VERSION:2.0
PRODID:SchoolNow
CALSCALE:GREGORIAN
BEGIN:VEVENT
UID:8f7a3f22-3662-11f0-b151-0a58a9feac02
DTSTAMP:20260422T162016Z
SUMMARY:Penny Wars Fundraiser
URL;VALUE=URI:https://www.gusd.us/islavista/calendar/8175704/penny-wars-fun
 draiser
DTSTART;VALUE=DATE:20260112
DTEND;VALUE=DATE:20260117
END:VEVENT
END:VCALENDAR
