BEGIN:VCALENDAR
VERSION:2.0
PRODID:SchoolNow
CALSCALE:GREGORIAN
BEGIN:VEVENT
UID:8f7a410c-3662-11f0-8dff-0a58a9feac02
DTSTAMP:20260422T162016Z
SUMMARY:Glow Dance
URL;VALUE=URI:https://www.gusd.us/islavista/calendar/8175706/glow-dance
DTSTART:20260228T010000Z
DTEND:20260228T040000Z
END:VEVENT
END:VCALENDAR
