BEGIN:VCALENDAR
VERSION:2.0
PRODID:SchoolNow
CALSCALE:GREGORIAN
BEGIN:VEVENT
UID:8f7a42f6-3662-11f0-b953-0a58a9feac02
DTSTAMP:20260423T042513Z
SUMMARY:Teacher Appreciation Week!
URL;VALUE=URI:https://www.gusd.us/islavista/calendar/8175708/teacher-apprec
 iation-week
DTSTART;VALUE=DATE:20260504
DTEND;VALUE=DATE:20260509
END:VEVENT
END:VCALENDAR
