BEGIN:VCALENDAR
VERSION:2.0
PRODID:SchoolNow
CALSCALE:GREGORIAN
BEGIN:VEVENT
UID:8f7a4f4e-3662-11f0-a1a3-0a58a9feac02
DTSTAMP:20260422T162016Z
SUMMARY:PTA Board Meeting (on Zoom)
URL;VALUE=URI:https://www.gusd.us/islavista/calendar/8175721/pta-board-meet
 ing-on-zoom
DTSTART:20260128T020000Z
DTEND:20260128T030000Z
END:VEVENT
END:VCALENDAR
