BEGIN:VCALENDAR
VERSION:2.0
PRODID:SchoolNow
CALSCALE:GREGORIAN
BEGIN:VEVENT
UID:8f7a503e-3662-11f0-9c0c-0a58a9feac02
DTSTAMP:20260422T162016Z
SUMMARY:PTA Board Meeting - in person
URL;VALUE=URI:https://www.gusd.us/islavista/calendar/8175722/pta-board-meet
 ing-in-person
DTSTART:20260311T010000Z
DTEND:20260311T020000Z
END:VEVENT
END:VCALENDAR
