BEGIN:VCALENDAR
VERSION:2.0
PRODID:SchoolNow
CALSCALE:GREGORIAN
BEGIN:VEVENT
UID:8f7a5bce-3662-11f0-914e-0a58a9feac02
DTSTAMP:20260422T162016Z
SUMMARY:PTA General Meeting
LOCATION:Isla Vista Elementary School\, 6875 El Colegio Rd\, Goleta\, CA 93
 117\, USA
URL;VALUE=URI:https://www.gusd.us/islavista/calendar/8175733/pta-general-me
 eting
DTSTART:20260113T161500Z
DTEND:20260113T171500Z
END:VEVENT
END:VCALENDAR
