BEGIN:VCALENDAR
VERSION:2.0
PRODID:SchoolNow
CALSCALE:GREGORIAN
BEGIN:VEVENT
UID:8f7a5f8e-3662-11f0-9ee6-0a58a9feac02
DTSTAMP:20260423T042513Z
SUMMARY:PTA General Meeting
LOCATION:Isla Vista Elementary School\, 6875 El Colegio Rd\, Goleta\, CA 93
 117\, USA
URL;VALUE=URI:https://www.gusd.us/islavista/calendar/8175737/pta-general-me
 eting
DTSTART:20260505T151500Z
DTEND:20260505T161500Z
END:VEVENT
END:VCALENDAR
