BEGIN:VCALENDAR
VERSION:2.0
PRODID:SchoolNow
CALSCALE:GREGORIAN
BEGIN:VEVENT
UID:88eb7cf6-36c7-11f0-943f-0a58a9feac02
DTSTAMP:20260422T162016Z
SUMMARY:Family Movie Night!
URL;VALUE=URI:https://www.gusd.us/islavista/calendar/8178776/family-movie-n
 ight
DTSTART:20260131T020000Z
DTEND:20260131T040000Z
END:VEVENT
END:VCALENDAR
