BEGIN:VCALENDAR
VERSION:2.0
PRODID:SchoolNow
CALSCALE:GREGORIAN
BEGIN:VEVENT
UID:e4205300-7dab-11f0-b9bc-0e7415f6a873
DTSTAMP:20251216T154527Z
SUMMARY:First Day of school
URL;VALUE=URI:https://www.gusd.us/islavista/calendar/8524287/first-day-of-s
 chool
DTSTART:20250820T151500Z
DTEND:20250820T161500Z
END:VEVENT
END:VCALENDAR
