BEGIN:VCALENDAR
VERSION:2.0
PRODID:SchoolNow
CALSCALE:GREGORIAN
BEGIN:VEVENT
UID:e4205652-7dab-11f0-9f8f-0e7415f6a873
DTSTAMP:20251216T154527Z
SUMMARY:PTA Welcome- Principal Meet and Greet too
URL;VALUE=URI:https://www.gusd.us/islavista/calendar/8524288/pta-welcome-pr
 incipal-meet-and-greet-too
DTSTART:20250822T153000Z
DTEND:20250822T160000Z
END:VEVENT
END:VCALENDAR
