BEGIN:VCALENDAR
VERSION:2.0
PRODID:SchoolNow
CALSCALE:GREGORIAN
BEGIN:VEVENT
UID:e4205792-7dab-11f0-9ae4-0e7415f6a873
DTSTAMP:20251216T154527Z
SUMMARY:1:55 Dismissal 1st - 6th
URL;VALUE=URI:https://www.gusd.us/islavista/calendar/8524289/1-55-dismissal
 -1st-6th
DTSTART:20250821T205000Z
DTEND:20250821T210500Z
END:VEVENT
END:VCALENDAR
